BEGIN:VCALENDAR
VERSION:2.0
PRODID:-//Squarespace Inc/Squarespace 6//v6//EN
BEGIN:VEVENT
UID:5e1fa895f0b63e06cfd0267c@squarespace.com
DTSTAMP:20200116T001413Z
DTSTART:20200918T230000Z
DTEND:20200920T120000Z
SUMMARY:VPAC Troupe Competitions
END:VEVENT
END:VCALENDAR
