BEGIN:VCALENDAR
VERSION:2.0
PRODID:-//Squarespace Inc/Squarespace 6//v6//EN
BEGIN:VEVENT
UID:5e1fbc704293956c31a79bfb@squarespace.com
DTSTAMP:20200116T013026Z
DTSTART:20200918T230000Z
DTEND:20200919T080000Z
SUMMARY:Last Day of Term 3
END:VEVENT
END:VCALENDAR
