BEGIN:VCALENDAR
VERSION:2.0
PRODID:-//Squarespace Inc/Squarespace 6//v6//EN
BEGIN:VEVENT
UID:5e1fa476217442381958f432@squarespace.com
DTSTAMP:20200115T235010Z
DTSTART:20200706T010000Z
DTEND:20200710T060000Z
SUMMARY:BBO (Ballet) Dance Days (TBC) 
END:VEVENT
END:VCALENDAR
