BEGIN:VCALENDAR
VERSION:2.0
PRODID:-//Squarespace Inc/Squarespace 6//v6//EN
BEGIN:VEVENT
UID:5e1ea03087f6675d688c937e@squarespace.com
DTSTAMP:20200116T002356Z
DTSTART:20200713T063000Z
DTEND:20200919T080000Z
SUMMARY:Term 3 Monday July 13 - Sat Sept 19 
END:VEVENT
END:VCALENDAR
