BEGIN:VCALENDAR
VERSION:2.0
PRODID:-//Squarespace Inc/Squarespace 6//v6//EN
BEGIN:VEVENT
UID:5e1fbc324301a9378db81983@squarespace.com
DTSTAMP:20200116T012911Z
DTSTART:20200626T230000Z
DTEND:20200627T080000Z
SUMMARY:Last Day of Term 2
END:VEVENT
END:VCALENDAR
