BEGIN:VCALENDAR
VERSION:2.0
PRODID:-//Squarespace Inc/Squarespace 6//v6//EN
BEGIN:VEVENT
UID:5e1ea238c7a87d3abb55ab9a@squarespace.com
DTSTAMP:20200115T052628Z
DTSTART:20200424T230000Z
DTEND:20200425T080000Z
SUMMARY:Anzac Day CENTRESTAGE CLASSES RUNNING ALL DAY 
END:VEVENT
END:VCALENDAR
