BEGIN:VCALENDAR
VERSION:2.0
PRODID:-//Squarespace Inc/Squarespace 6//v6//EN
BEGIN:VEVENT
UID:5e1eb08d16e8b248159f7727@squarespace.com
DTSTAMP:20200229T044629Z
DTSTART:20200418T233000Z
DTEND:20200419T123000Z
SUMMARY:GOODWILL dance competitions commence (Details to follow)
END:VEVENT
END:VCALENDAR
