BEGIN:VCALENDAR
VERSION:2.0
PRODID:-//Squarespace Inc/Squarespace 6//v6//EN
BEGIN:VEVENT
UID:5e1e9f0fd6399b3a245af307@squarespace.com
DTSTAMP:20200116T001731Z
DTSTART:20200203T053000Z
DTEND:20200328T070000Z
SUMMARY:Term 1 Monday Feb 3 - Sat March 28 
END:VEVENT
END:VCALENDAR
