BEGIN:VCALENDAR
VERSION:2.0
PRODID:-//Squarespace Inc/Squarespace 6//v6//EN
BEGIN:VEVENT
UID:5e1fbbe3f8c3503a17215908@squarespace.com
DTSTAMP:20200116T012806Z
DTSTART:20200327T220000Z
DTEND:20200328T070000Z
SUMMARY:Last Day of Term 1
END:VEVENT
END:VCALENDAR
