BEGIN:VCALENDAR
VERSION:2.0
PRODID:-//Squarespace Inc/Squarespace 6//v6//EN
BEGIN:VEVENT
UID:5e1ea1ede723f0468c11d663@squarespace.com
DTSTAMP:20200122T043547Z
DTSTART:20200309T053000Z
DTEND:20200309T103000Z
SUMMARY:Labour Day CLASSES RUNNING AT CENTRESTAGE
END:VEVENT
END:VCALENDAR
