BEGIN:VCALENDAR
VERSION:2.0
PRODID:-//Squarespace Inc/Squarespace 6//v6//EN
BEGIN:VEVENT
UID:5e1eac93348d0b3315f716c7@squarespace.com
DTSTAMP:20200116T003658Z
DTSTART:20201211T070000Z
DTEND:20201211T090000Z
SUMMARY:Current students re-Enrollment Evening 6pm - 8pm  
END:VEVENT
END:VCALENDAR
