BEGIN:VCALENDAR
VERSION:2.0
PRODID:-//Squarespace Inc/Squarespace 6//v6//EN
BEGIN:VEVENT
UID:5e1eaaee24911f3b799b6c72@squarespace.com
DTSTAMP:20200116T003456Z
DTSTART:20201130T053000Z
DTEND:20201211T103000Z
SUMMARY:Normal Classes resume and Trial classes commence Mon Nov 30 - Fri D
 ec 11
END:VEVENT
END:VCALENDAR
