BEGIN:VCALENDAR
VERSION:2.0
PRODID:-//Squarespace Inc/Squarespace 6//v6//EN
BEGIN:VEVENT
UID:5e1ea2dce723f0468c11ef4f@squarespace.com
DTSTAMP:20200115T052837Z
DTSTART:20201103T053000Z
DTEND:20201103T103000Z
SUMMARY:Melbourne Cup Day CENTRESTAGE CLASSES RUNNING
END:VEVENT
END:VCALENDAR
