BEGIN:VCALENDAR
VERSION:2.0
PRODID:-//Squarespace Inc/Squarespace 6//v6//EN
BEGIN:VEVENT
UID:5e1eaa5e48c1600b960f9025@squarespace.com
DTSTAMP:20200115T060048Z
DTSTART:20201127T060000Z
DTEND:20201127T120000Z
SUMMARY:Concert #2 at Darebin Theatre Preston Arrival time 5pm
END:VEVENT
END:VCALENDAR
