BEGIN:VCALENDAR
VERSION:2.0
PRODID:-//Squarespace Inc/Squarespace 6//v6//EN
BEGIN:VEVENT
UID:5e1ea9cee723f0468c12a87d@squarespace.com
DTSTAMP:20200115T055948Z
DTSTART:20201126T050000Z
DTEND:20201126T120000Z
SUMMARY:Concert #1 at Darebin Theatre Preston Arrival time 4pm 
END:VEVENT
END:VCALENDAR
