BEGIN:VCALENDAR
VERSION:2.0
PRODID:-//Squarespace Inc/Squarespace 6//v6//EN
BEGIN:VEVENT
UID:5e1ea67810e8a8104481fbea@squarespace.com
DTSTAMP:20200116T003326Z
DTSTART:20201113T230000Z
DTEND:20201114T050000Z
SUMMARY:Compulsory Full Run Through of Concert at Centrestage 10am - 4pm (T
 BA)
END:VEVENT
END:VCALENDAR
