BEGIN:VCALENDAR
VERSION:2.0
PRODID:-//Squarespace Inc/Squarespace 6//v6//EN
BEGIN:VEVENT
UID:5e1ea5d2f7c6f25343ae483f@squarespace.com
DTSTAMP:20200229T044722Z
DTSTART:20201125T050000Z
DTEND:20201125T110000Z
SUMMARY:Compulsory Technical Rehearsal at Darebin Theatre Preston 4pm - 10p
 m (TBC) 
END:VEVENT
END:VCALENDAR
