BEGIN:VCALENDAR
VERSION:2.0
PRODID:-//Squarespace Inc/Squarespace 6//v6//EN
BEGIN:VEVENT
UID:5e1ea0af348d0b3315f5dfd1@squarespace.com
DTSTAMP:20200115T060209Z
DTSTART:20201005T053000Z
DTEND:20201211T063000Z
SUMMARY:Term 4 Monday Oct 5 - Friday Dec 11
END:VEVENT
END:VCALENDAR
