BEGIN:VCALENDAR
VERSION:2.0
PRODID:-//Squarespace Inc/Squarespace 6//v6//EN
BEGIN:VEVENT
UID:5e1ea491e723f0468c121b28@squarespace.com
DTSTAMP:20200116T003153Z
DTSTART:20201030T220000Z
DTEND:20201031T060000Z
SUMMARY:Concert Ticket Sales Day at Centrestage Studios
END:VEVENT
END:VCALENDAR
