BEGIN:VCALENDAR
VERSION:2.0
PRODID:-//Squarespace Inc/Squarespace 6//v6//EN
BEGIN:VEVENT
UID:5cefa115bc036400015f18d9@squarespace.com
DTSTAMP:20190717T072819Z
DTSTART:20190920T070000Z
DTEND:20190920T130000Z
SUMMARY:2019 CENTRESTAGE SINGING CABARET: 5:00pm and 8:00pm
END:VEVENT
END:VCALENDAR
