BEGIN:VCALENDAR
VERSION:2.0
PRODID:-//Squarespace Inc/Squarespace 6//v6//EN
BEGIN:VEVENT
UID:5cef9a7b55d1960001080472@squarespace.com
DTSTAMP:20190717T072841Z
DTSTART:20190825T010000Z
DTEND:20190825T040000Z
SUMMARY:2019 CENTRESTAGE SINGING CABARET AUDITIONS
GEO:-37.770728;144.98055
LOCATION:Centrestage Performing Arts School\, 15 Albert street\, Brunswick 
 East\, Melbourne\, Australia
END:VEVENT
END:VCALENDAR
