BEGIN:VCALENDAR
VERSION:2.0
PRODID:-//Squarespace Inc/Squarespace 6//v6//EN
BEGIN:VEVENT
UID:5d2ece8217f7050001fb866d@squarespace.com
DTSTAMP:20190717T073400Z
DTSTART:20190727T090000Z
DTEND:20190727T123000Z
SUMMARY:CENTRESTAGE MOVIE MUSICAL NIGHT
END:VEVENT
END:VCALENDAR
