BEGIN:VCALENDAR
VERSION:2.0
PRODID:-//Squarespace Inc/Squarespace 6//v6//EN
BEGIN:VEVENT
UID:5c4a5eb4b91c914bd0896df0@squarespace.com
DTSTAMP:20190902T075204Z
DTSTART:20190715T063000Z
DTEND:20190921T080000Z
SUMMARY:Term 3 2019
END:VEVENT
END:VCALENDAR
