BEGIN:VCALENDAR
VERSION:2.0
PRODID:-//Squarespace Inc/Squarespace 6//v6//EN
BEGIN:VEVENT
UID:5cc9474c53450a0e1da11cf7@squarespace.com
DTSTAMP:20190501T074734Z
DTSTART:20190518T090000Z
DTEND:20190518T123000Z
SUMMARY:CENTRESTAGE MOVIE MUSICAL NIGHT
GEO:-37.770728;144.98055
LOCATION:Centrestage Performing Arts School\, 15 Albert Street\, Brunswick 
 East\, VIC\, 3057\, Australia
END:VEVENT
END:VCALENDAR
