BEGIN:VCALENDAR
VERSION:2.0
PRODID:-//Squarespace Inc/Squarespace 6//v6//EN
BEGIN:VEVENT
UID:5c4a5e2c4fa51ac7dcc68779@squarespace.com
DTSTAMP:20190416T040643Z
DTSTART:20190423T063000Z
DTEND:20190629T110000Z
SUMMARY:Term 2 2019
END:VEVENT
END:VCALENDAR
