BEGIN:VCALENDAR
VERSION:2.0
PRODID:-//Squarespace Inc/Squarespace 6//v6//EN
BEGIN:VEVENT
UID:5c8625af0d9297e183ca3d6f@squarespace.com
DTSTAMP:20190314T034832Z
DTSTART:20190323T230000Z
DTEND:20190324T050000Z
SUMMARY:CENTRESTAGE AGENCY AUDITIONS 2019
GEO:-37.770728;144.98055
LOCATION:Centrestage Performing Arts School\, 15 Albert Street\, Brunswick 
 East\, VIC\, 3057\, Australia
END:VEVENT
END:VCALENDAR
