BEGIN:VCALENDAR
VERSION:2.0
PRODID:-//Squarespace Inc/Squarespace 6//v6//EN
BEGIN:VEVENT
UID:5bce61ee15fcc0905641396c@squarespace.com
DTSTAMP:20190311T090819Z
DTSTART:20190204T053000Z
DTEND:20190404T100000Z
SUMMARY:Term 1 2019
END:VEVENT
END:VCALENDAR
