BEGIN:VCALENDAR
VERSION:2.0
PRODID:-//Squarespace Inc/Squarespace 6//v6//EN
BEGIN:VEVENT
UID:5dcb9edf8471b349439f964b@squarespace.com
DTSTAMP:20191113T062942Z
DTSTART:20191207T010000Z
DTEND:20191207T040000Z
SUMMARY:CHRISTMAS PARTY AT CENTRESTAGE STUDIOS
END:VEVENT
END:VCALENDAR
