BEGIN:VCALENDAR
VERSION:2.0
PRODID:-//Squarespace Inc/Squarespace 6//v6//EN
BEGIN:VEVENT
UID:5cc0176beb39315d0cbbf1ec@squarespace.com
DTSTAMP:20190424T080543Z
DTSTART:20191108T220000Z
DTEND:20191109T070000Z
SUMMARY:CLASSES RESUME FOR TERM 4 SATURDAY 9 NOVEMBER 2019 AT CENTRESTAGE S
 TUDIOS
END:VEVENT
END:VCALENDAR
