BEGIN:VCALENDAR
VERSION:2.0
PRODID:-//Squarespace Inc/Squarespace 6//v6//EN
BEGIN:VEVENT
UID:5cc016b8a9a7fe0001eeb41b@squarespace.com
DTSTAMP:20191012T005255Z
DTSTART:20191107T060000Z
DTEND:20191107T103000Z
SUMMARY:2019 CENTRESTAGE CONCERT SHOW #3 AT DAREBIN ARTS CENTRE
END:VEVENT
END:VCALENDAR
