BEGIN:VCALENDAR
VERSION:2.0
PRODID:-//Squarespace Inc/Squarespace 6//v6//EN
BEGIN:VEVENT
UID:5cc01648f9619a617e325667@squarespace.com
DTSTAMP:20190914T013837Z
DTSTART:20191106T060000Z
DTEND:20191106T113000Z
SUMMARY:2019 CENTRESTAGE CONCERT SHOW #2 AT DAREBIN ARTS CENTRE
END:VEVENT
END:VCALENDAR
