BEGIN:VCALENDAR
VERSION:2.0
PRODID:-//Squarespace Inc/Squarespace 6//v6//EN
BEGIN:VEVENT
UID:5cc0140553450a01dcfea2ef@squarespace.com
DTSTAMP:20190914T013651Z
DTSTART:20191104T050000Z
DTEND:20191104T113000Z
SUMMARY:2019 CONCERT COMPULSORY TECH REHEARSAL AT DAREBIN ARTS CENTRE 
END:VEVENT
END:VCALENDAR
