BEGIN:VCALENDAR
VERSION:2.0
PRODID:-//Squarespace Inc/Squarespace 6//v6//EN
BEGIN:VEVENT
UID:5dcb9d9c1c9bb248f64103de@squarespace.com
DTSTAMP:20191113T061237Z
DTSTART:20191129T060000Z
DTEND:20191129T090000Z
SUMMARY:CURRENT CENTRESTAGE STUDENTS ENROLMENTS FOR 2020
END:VEVENT
END:VCALENDAR
