BEGIN:VCALENDAR
VERSION:2.0
PRODID:-//Squarespace Inc/Squarespace 6//v6//EN
BEGIN:VEVENT
UID:5dcb93b16d474f159d715776@squarespace.com
DTSTAMP:20191113T063140Z
DTSTART:20191128T060000Z
DTEND:20191128T090000Z
SUMMARY:2020 NEW STUDENT ENROLMENTS
GEO:-37.770728;144.98055
LOCATION:Centrestage Performing Arts School\, 15 Albert Street\, Brunswick 
 East\, VIC\, 3057\, Australia
END:VEVENT
END:VCALENDAR
