BEGIN:VCALENDAR
VERSION:2.0
PRODID:-//Squarespace Inc/Squarespace 6//v6//EN
BEGIN:VEVENT
UID:5c4a5f0270a6adb4ca08e65b@squarespace.com
DTSTAMP:20190125T005905Z
DTSTART:20191007T010000Z
DTEND:20191214T070000Z
SUMMARY:Term 4 2019
END:VEVENT
END:VCALENDAR
