BEGIN:VCALENDAR
VERSION:2.0
PRODID:-//Squarespace Inc/Squarespace 6//v6//EN
BEGIN:VEVENT
UID:5cc01025a40da10001bfb45c@squarespace.com
DTSTAMP:20190914T013605Z
DTSTART:20191025T230000Z
DTEND:20191026T060000Z
SUMMARY:FULL 2019 CONCERT REHEARSAL RUN THROUGH AT CENTRESTAGE STUDIOS.
END:VEVENT
END:VCALENDAR
