BEGIN:VCALENDAR
VERSION:2.0
PRODID:-//Squarespace Inc/Squarespace 6//v6//EN
BEGIN:VEVENT
UID:5d2edaa17349fb0001f6d221@squarespace.com
DTSTAMP:20190914T013720Z
DTSTART:20191011T220000Z
DTEND:20191012T040000Z
SUMMARY:2019 CENTRESTAGE CONCERT TICKETS ON SALE
GEO:-37.770728;144.98055
LOCATION:Centrestage Performing Arts School\, 15 Albert Street\, Brunswick 
 East\, Melbourne\, Australia
END:VEVENT
END:VCALENDAR
