BEGIN:VCALENDAR
VERSION:2.0
PRODID:-//Squarespace Inc/Squarespace 6//v6//EN
BEGIN:VEVENT
UID:5ab9e911aa4a99d2a617245f@squarespace.com
DTSTAMP:20180327T064821Z
DTSTART:20180715T230000Z
DTEND:20180921T220000Z
SUMMARY:TERM 3
END:VEVENT
END:VCALENDAR
