BEGIN:VCALENDAR
VERSION:2.0
PRODID:-//Squarespace Inc/Squarespace 6//v6//EN
BEGIN:VEVENT
UID:5ab9e879562fa7e19204d426@squarespace.com
DTSTAMP:20180327T064618Z
DTSTART:20180415T230000Z
DTEND:20180630T070000Z
SUMMARY:TERM 2 
END:VEVENT
END:VCALENDAR
