BEGIN:VCALENDAR
VERSION:2.0
PRODID:-//Squarespace Inc/Squarespace 6//v6//EN
BEGIN:VEVENT
UID:5bce5eebf4e1fc08bea8ce9d@squarespace.com
DTSTAMP:20181122T055243Z
DTSTART:20181208T010000Z
DTEND:20181208T040000Z
SUMMARY:CHRISTMAS PARTY
END:VEVENT
END:VCALENDAR
