BEGIN:VCALENDAR
VERSION:2.0
PRODID:-//Squarespace Inc/Squarespace 6//v6//EN
BEGIN:VEVENT
UID:5bce5d43419202343920bac9@squarespace.com
DTSTAMP:20181122T055550Z
DTSTART:20181207T053000Z
DTEND:20181207T090000Z
SUMMARY:2018 CURRENT STUDENT ENROLLMENTS FOR 2019
END:VEVENT
END:VCALENDAR
