BEGIN:VCALENDAR
VERSION:2.0
PRODID:-//Squarespace Inc/Squarespace 6//v6//EN
BEGIN:VEVENT
UID:5bf63d574d7a9c8adb0068a3@squarespace.com
DTSTAMP:20181122T055751Z
DTSTART:20181206T060000Z
DTEND:20181206T090000Z
SUMMARY:2019 NEW STUDENT ENROLLMENTS
END:VEVENT
END:VCALENDAR
