BEGIN:VCALENDAR
VERSION:2.0
PRODID:-//Squarespace Inc/Squarespace 6//v6//EN
BEGIN:VEVENT
UID:5bce5d067817f719eaa73f40@squarespace.com
DTSTAMP:20181022T232855Z
DTSTART:20181205T060000Z
DTEND:20181205T120000Z
SUMMARY:2018 CONCERT #3
END:VEVENT
END:VCALENDAR
