BEGIN:VCALENDAR
VERSION:2.0
PRODID:-//Squarespace Inc/Squarespace 6//v6//EN
BEGIN:VEVENT
UID:5bce5ca74785d3150e13122a@squarespace.com
DTSTAMP:20181022T232753Z
DTSTART:20181204T060000Z
DTEND:20181204T120000Z
SUMMARY:2018 CONCERT #2
END:VEVENT
END:VCALENDAR
