BEGIN:VCALENDAR
VERSION:2.0
PRODID:-//Squarespace Inc/Squarespace 6//v6//EN
BEGIN:VEVENT
UID:5a263a280d9297bd22dacea3@squarespace.com
DTSTAMP:20181128T032021Z
DTSTART:20181130T230000Z
DTEND:20181201T050000Z
SUMMARY:2018 CONCERT COME ALIVE DECEMBER 3
GEO:-37.744681;144.997747
LOCATION:Darebin Arts & Entretainment Centre\, Cnr Bell St & St Georges Rd\
 , Preston  3072
END:VEVENT
END:VCALENDAR
