BEGIN:VCALENDAR
VERSION:2.0
PRODID:-//Squarespace Inc/Squarespace 6//v6//EN
BEGIN:VEVENT
UID:5bce5c1bb208fc4da9a5523a@squarespace.com
DTSTAMP:20181022T232616Z
DTSTART:20181203T050000Z
DTEND:20181203T120000Z
SUMMARY:2018 CONCERT #1
END:VEVENT
END:VCALENDAR
