BEGIN:VCALENDAR
VERSION:2.0
PRODID:-//Squarespace Inc/Squarespace 6//v6//EN
BEGIN:VEVENT
UID:5a9095400d9297895c2f1c67@squarespace.com
DTSTAMP:20181024T075007Z
DTSTART:20181102T053000Z
DTEND:20181102T114500Z
SUMMARY:Spotlight Drama Rehearsal - MYTH
GEO:-37.770728;144.98055
LOCATION:Centrestage Performing Arts School\, 15 Albert Street\, Brunswick 
 East\, VIC\, 3057\, Australia
END:VEVENT
END:VCALENDAR
