BEGIN:VCALENDAR
VERSION:2.0
PRODID:-//Squarespace Inc/Squarespace 6//v6//EN
BEGIN:VEVENT
UID:5a90cd730d9297895c3b0f9a@squarespace.com
DTSTAMP:20181022T232053Z
DTSTART:20181120T050000Z
DTEND:20181121T113000Z
SUMMARY:2018 CONCERT COME ALIVE REHEARSAL AT DAREBIN ARTS &amp\; ENTERTAINM
 ENT CENTRE
END:VEVENT
END:VCALENDAR
