BEGIN:VCALENDAR
VERSION:2.0
PRODID:-//Squarespace Inc/Squarespace 6//v6//EN
BEGIN:VEVENT
UID:5a909453e4966bf058ebff54@squarespace.com
DTSTAMP:20181024T075552Z
DTSTART:20181103T010000Z
DTEND:20181103T110000Z
SUMMARY:Spotlight Drama Technical Rehearsal &amp\; Performance of MYTH 
GEO:-37.750105;145.079724
LOCATION:Banyule Theatre\, 10 Buckingham Drive\, Heidelberg\, VIC\, 3084\, 
 Australia
END:VEVENT
END:VCALENDAR
