BEGIN:VCALENDAR
VERSION:2.0
PRODID:-//Squarespace Inc/Squarespace 6//v6//EN
BEGIN:VEVENT
UID:5bcd78b77817f7df50a512cc@squarespace.com
DTSTAMP:20181022T231952Z
DTSTART:20181109T220000Z
DTEND:20181110T040000Z
SUMMARY:2018 CONCERT COME ALIVE TICKETS GO ON SALE
GEO:-37.770728;144.98055
LOCATION:Centrestage Performing Arts School\, 15 Albert Street\, Brunswick 
 East\, VIC\, 3057\, Australia
END:VEVENT
END:VCALENDAR
